BEGIN:VCALENDAR
VERSION:2.0
PRODID:-//Drac Nature - ECPv6.15.20//NONSGML v1.0//EN
CALSCALE:GREGORIAN
METHOD:PUBLISH
X-ORIGINAL-URL:https://dracnature.fr
X-WR-CALDESC:Évènements pour Drac Nature
REFRESH-INTERVAL;VALUE=DURATION:PT1H
X-Robots-Tag:noindex
X-PUBLISHED-TTL:PT1H
BEGIN:VTIMEZONE
TZID:Europe/Paris
BEGIN:DAYLIGHT
TZOFFSETFROM:+0100
TZOFFSETTO:+0200
TZNAME:CEST
DTSTART:20210328T010000
END:DAYLIGHT
BEGIN:STANDARD
TZOFFSETFROM:+0200
TZOFFSETTO:+0100
TZNAME:CET
DTSTART:20211031T010000
END:STANDARD
BEGIN:DAYLIGHT
TZOFFSETFROM:+0100
TZOFFSETTO:+0200
TZNAME:CEST
DTSTART:20220327T010000
END:DAYLIGHT
BEGIN:STANDARD
TZOFFSETFROM:+0200
TZOFFSETTO:+0100
TZNAME:CET
DTSTART:20221030T010000
END:STANDARD
BEGIN:DAYLIGHT
TZOFFSETFROM:+0100
TZOFFSETTO:+0200
TZNAME:CEST
DTSTART:20230326T010000
END:DAYLIGHT
BEGIN:STANDARD
TZOFFSETFROM:+0200
TZOFFSETTO:+0100
TZNAME:CET
DTSTART:20231029T010000
END:STANDARD
END:VTIMEZONE
BEGIN:VEVENT
DTSTART;TZID=Europe/Paris:20220811T190000
DTEND;TZID=Europe/Paris:20220811T190000
DTSTAMP:20260425T173411
CREATED:20220807T163219Z
LAST-MODIFIED:20220807T163219Z
UID:2308-1660244400-1660244400@dracnature.fr
SUMMARY:Balade ''Le soleil a rendez-vous avec la Super Lune" sur le Sénépi
DESCRIPTION:Le soleil a rendez-vous avec la lune\, mais la lune n’est pas là\, et le soleil l’attend !  \nLa prochaine Super Lune est pour le vendredi 12 août à 3h35. Les prochaines auront lieu en 2023. \nhttps://www.lune-pratique.fr/super-lune.html \nOn parle de Super Lune lorsque la pleine lune se produit aux moments où le satellite qui gravite autour de la terre se trouve le plus proche sur son orbite. La taille de la lune\, surtout à son lever à l’horizon\, prend alors des proportions étonnantes. Elle semble énorme et très proche. \n\n\n\nProposition de balade pour assister au coucher du soleil sur le Vercors et au  lever de la Super Lune sur l’Obiou. \nIl peut y avoir un départ groupé (co-voit) depuis La Mure\, puis depuis Susville (parking mairie-MPT)\, à 18h45\, pour limiter les voitures. \nDépart : du parking  des Merlins (1210m) à 19h. De Susville\, au quartier de Nantizon\, suivre une petite route passant par les hameaux de Versenat et de la Sausie. Se garer à son terminus goudronné au parking des Merlins  \nArrivée : Sommet de Pierre Plantée (1559m)\, massif du Sénépi\n \nDénivelé positif : 350m \nDurée : 1 heure \nDéroulement : observations et Pic-nic convivial au sommet de Pierre Plantée. \nMatériel à prévoir : bonnes chaussures de marche\, Bâtons\, lampe torche ou lampe frontale\, casse-croûte « Auberge espagnole » \nPetite précision : nous passerons par la cabane des 13 Bises (parking Les Merlins)\, pour bénéficier de la Super Lune pendant la descente du retour… \nQui est intéressé.e ? Inscription + que conseillée / météo et annulation-report. \nContact : Jean-Paul 06 71 05 09 41 (jean.paul.bdc@gmail.com)
URL:https://dracnature.fr/event/balade-le-soleil-a-rendez-vous-avec-la-super-lune-sur-le-senepi/
END:VEVENT
END:VCALENDAR