BEGIN:VCALENDAR
VERSION:2.0
PRODID:-//Drac Nature - ECPv6.15.20//NONSGML v1.0//EN
CALSCALE:GREGORIAN
METHOD:PUBLISH
X-WR-CALNAME:Drac Nature
X-ORIGINAL-URL:https://dracnature.fr
X-WR-CALDESC:Évènements pour Drac Nature
REFRESH-INTERVAL;VALUE=DURATION:PT1H
X-Robots-Tag:noindex
X-PUBLISHED-TTL:PT1H
BEGIN:VTIMEZONE
TZID:Europe/Paris
BEGIN:DAYLIGHT
TZOFFSETFROM:+0100
TZOFFSETTO:+0200
TZNAME:CEST
DTSTART:20230326T010000
END:DAYLIGHT
BEGIN:STANDARD
TZOFFSETFROM:+0200
TZOFFSETTO:+0100
TZNAME:CET
DTSTART:20231029T010000
END:STANDARD
BEGIN:DAYLIGHT
TZOFFSETFROM:+0100
TZOFFSETTO:+0200
TZNAME:CEST
DTSTART:20240331T010000
END:DAYLIGHT
BEGIN:STANDARD
TZOFFSETFROM:+0200
TZOFFSETTO:+0100
TZNAME:CET
DTSTART:20241027T010000
END:STANDARD
BEGIN:DAYLIGHT
TZOFFSETFROM:+0100
TZOFFSETTO:+0200
TZNAME:CEST
DTSTART:20250330T010000
END:DAYLIGHT
BEGIN:STANDARD
TZOFFSETFROM:+0200
TZOFFSETTO:+0100
TZNAME:CET
DTSTART:20251026T010000
END:STANDARD
END:VTIMEZONE
BEGIN:VEVENT
DTSTART;VALUE=DATE:20241019
DTEND;VALUE=DATE:20241020
DTSTAMP:20260423T021409
CREATED:20240919T144747Z
LAST-MODIFIED:20240923T155454Z
UID:2836-1729296000-1729382399@dracnature.fr
SUMMARY:Balade géologique dans le Dévoluy
DESCRIPTION:Nous partirons à  la recherche des traces des organismes marins d’antan. \nDénivelé + : environ 500 m \nRenseignements et inscription : \nKatia ASENSIO \ngypa.bikette@nordnet.fr
URL:https://dracnature.fr/event/balade-geologique-dans-le-devoluy/
END:VEVENT
END:VCALENDAR