BEGIN:VCALENDAR
VERSION:2.0
PRODID:-//Drac Nature - ECPv6.15.20//NONSGML v1.0//EN
CALSCALE:GREGORIAN
METHOD:PUBLISH
X-ORIGINAL-URL:https://dracnature.fr
X-WR-CALDESC:Évènements pour Drac Nature
REFRESH-INTERVAL;VALUE=DURATION:PT1H
X-Robots-Tag:noindex
X-PUBLISHED-TTL:PT1H
BEGIN:VTIMEZONE
TZID:Europe/Paris
BEGIN:DAYLIGHT
TZOFFSETFROM:+0100
TZOFFSETTO:+0200
TZNAME:CEST
DTSTART:20240331T010000
END:DAYLIGHT
BEGIN:STANDARD
TZOFFSETFROM:+0200
TZOFFSETTO:+0100
TZNAME:CET
DTSTART:20241027T010000
END:STANDARD
BEGIN:DAYLIGHT
TZOFFSETFROM:+0100
TZOFFSETTO:+0200
TZNAME:CEST
DTSTART:20250330T010000
END:DAYLIGHT
BEGIN:STANDARD
TZOFFSETFROM:+0200
TZOFFSETTO:+0100
TZNAME:CET
DTSTART:20251026T010000
END:STANDARD
BEGIN:DAYLIGHT
TZOFFSETFROM:+0100
TZOFFSETTO:+0200
TZNAME:CEST
DTSTART:20260329T010000
END:DAYLIGHT
BEGIN:STANDARD
TZOFFSETFROM:+0200
TZOFFSETTO:+0100
TZNAME:CET
DTSTART:20261025T010000
END:STANDARD
END:VTIMEZONE
BEGIN:VEVENT
DTSTART;VALUE=DATE:20250215
DTEND;VALUE=DATE:20250216
DTSTAMP:20260422T210930
CREATED:20240919T150004Z
LAST-MODIFIED:20240919T150004Z
UID:2844-1739577600-1739663999@dracnature.fr
SUMMARY:Traces et indices de la faune sauvage
DESCRIPTION:Balade à la recherche des traces et indices laissés par les êtres qui peuplent nos montagnes. \nLieu et horaire à déterminer selon l’enneigement \nInscription Katia ASENSIO \ngypa.bikette@nordnet.fr
URL:https://dracnature.fr/event/traces-et-indices-de-la-faune-sauvage/
END:VEVENT
END:VCALENDAR