BEGIN:VCALENDAR
VERSION:2.0
PRODID:-//Drac Nature - ECPv6.15.20//NONSGML v1.0//EN
CALSCALE:GREGORIAN
METHOD:PUBLISH
X-WR-CALNAME:Drac Nature
X-ORIGINAL-URL:https://dracnature.fr
X-WR-CALDESC:Évènements pour Drac Nature
REFRESH-INTERVAL;VALUE=DURATION:PT1H
X-Robots-Tag:noindex
X-PUBLISHED-TTL:PT1H
BEGIN:VTIMEZONE
TZID:Europe/Paris
BEGIN:DAYLIGHT
TZOFFSETFROM:+0100
TZOFFSETTO:+0200
TZNAME:CEST
DTSTART:20240331T010000
END:DAYLIGHT
BEGIN:STANDARD
TZOFFSETFROM:+0200
TZOFFSETTO:+0100
TZNAME:CET
DTSTART:20241027T010000
END:STANDARD
BEGIN:DAYLIGHT
TZOFFSETFROM:+0100
TZOFFSETTO:+0200
TZNAME:CEST
DTSTART:20250330T010000
END:DAYLIGHT
BEGIN:STANDARD
TZOFFSETFROM:+0200
TZOFFSETTO:+0100
TZNAME:CET
DTSTART:20251026T010000
END:STANDARD
BEGIN:DAYLIGHT
TZOFFSETFROM:+0100
TZOFFSETTO:+0200
TZNAME:CEST
DTSTART:20260329T010000
END:DAYLIGHT
BEGIN:STANDARD
TZOFFSETFROM:+0200
TZOFFSETTO:+0100
TZNAME:CET
DTSTART:20261025T010000
END:STANDARD
END:VTIMEZONE
BEGIN:VEVENT
DTSTART;TZID=Europe/Paris:20250419T083000
DTEND;TZID=Europe/Paris:20250419T113000
DTSTAMP:20260422T105652
CREATED:20250315T082304Z
LAST-MODIFIED:20250315T083434Z
UID:2988-1745051400-1745062200@dracnature.fr
SUMMARY:Les oiseaux des marais et bocages
DESCRIPTION:Boucle sonore permettant de découvrir les hameaux\, le marais et le panorama du plateau Matheysin. \n> Chaussures de marche conseillées\n> Inscription obligatoire (à partir du 05/04 uniquement\, adhérent·es prioritaires)\, par mail avec nom/prénom/tél \nL’inscription se fait auprès de la LPO   isere@lpo.fr \nKatia ASENSIO Bénévole LPO   DRAC NATURE
URL:https://dracnature.fr/event/les-oiseaux-des-marais-et-bocages/
END:VEVENT
END:VCALENDAR