BEGIN:VCALENDAR
VERSION:2.0
PRODID:-//Drac Nature - ECPv6.15.20//NONSGML v1.0//EN
CALSCALE:GREGORIAN
METHOD:PUBLISH
X-WR-CALNAME:Drac Nature
X-ORIGINAL-URL:https://dracnature.fr
X-WR-CALDESC:Évènements pour Drac Nature
REFRESH-INTERVAL;VALUE=DURATION:PT1H
X-Robots-Tag:noindex
X-PUBLISHED-TTL:PT1H
BEGIN:VTIMEZONE
TZID:Europe/Paris
BEGIN:DAYLIGHT
TZOFFSETFROM:+0100
TZOFFSETTO:+0200
TZNAME:CEST
DTSTART:20250330T010000
END:DAYLIGHT
BEGIN:STANDARD
TZOFFSETFROM:+0200
TZOFFSETTO:+0100
TZNAME:CET
DTSTART:20251026T010000
END:STANDARD
BEGIN:DAYLIGHT
TZOFFSETFROM:+0100
TZOFFSETTO:+0200
TZNAME:CEST
DTSTART:20260329T010000
END:DAYLIGHT
BEGIN:STANDARD
TZOFFSETFROM:+0200
TZOFFSETTO:+0100
TZNAME:CET
DTSTART:20261025T010000
END:STANDARD
BEGIN:DAYLIGHT
TZOFFSETFROM:+0100
TZOFFSETTO:+0200
TZNAME:CEST
DTSTART:20270328T010000
END:DAYLIGHT
BEGIN:STANDARD
TZOFFSETFROM:+0200
TZOFFSETTO:+0100
TZNAME:CET
DTSTART:20271031T010000
END:STANDARD
END:VTIMEZONE
BEGIN:VEVENT
DTSTART;TZID=Europe/Paris:20260425T090000
DTEND;TZID=Europe/Paris:20260425T120000
DTSTAMP:20260421T225121
CREATED:20260421T134340Z
LAST-MODIFIED:20260421T134340Z
UID:3208-1777107600-1777118400@dracnature.fr
SUMMARY:Participez à l'ABC de La Motte d'Aveillans: se familiariser avec les oiseaux des jardins
DESCRIPTION:En 2026\, Drac Nature accompagne la commune de La Motte d’Aveillans dans la mise en œuvre de son Atlas de la Biodiversité Communale (ABC) aux côtés de Gentiana\, de la LPO et de Mélanie Cornet (assistante à maîtrise d’ouvrage). Un ABC est une démarche qui permet à une commune ou une intercommunalité de mieux connaître\, de préserver et de valoriser son patrimoine naturel. La démarche ABC invite les habitants et de les personnes volontaires qu’elles soient naturalistes ou non à participer à la collecte de données. Pour ce faire\, un module de 4 animations/formations est proposé entre avril et juin pour acquérir les bases utiles à la détermination des espèces végétales et animales les plus communes ou avec une approche par type de milieux. \nAu programme : \nRencontre avec les oiseaux communs qui vivent à proximité de nos maisons et des milieux environnants. Durant cette animation\, nous vous proposerons de vous familiariser à la reconnaissance des oiseaux par une approche ludique mêlant observation et écoute des chants. \nMatériel à prévoir :\nChaussures confortables pour marcher\, vêtements adaptés à la météo et si vous le souhaitez : jumelles\, carnet de croquis/note\, appareil photo\, livre sur les oiseaux… \nLieu et horaire de RDV :\nRDV à 8h45 pour un démarrage à 9h  (lieu de rdv encore à préciser). \n  \nModalités : \nCette animation est  gratuite et s’adresse aux habitants de La Motte d’Aveillans\, des communes voisines ainsi qu’à tous les curieux (enfants accompagnés à partir de 8 ans). \nInscription obligatoire (jusqu’au vendredi 24/04 – 12h)\n \ndracnature@dracnature.fr  \nL’inscription est nécessaire pour vous prévenir en cas de report pour mauvaise météo et pour la préparation du matériel\, des documents à imprimer\, pour gérer le nombre de participants…
URL:https://dracnature.fr/event/participez-a-labc-de-la-motte-daveillans-se-familiariser-avec-les-oiseaux-des-jardins/
END:VEVENT
END:VCALENDAR