BEGIN:VCALENDAR
VERSION:2.0
PRODID:-//Drac Nature - ECPv6.15.20//NONSGML v1.0//EN
CALSCALE:GREGORIAN
METHOD:PUBLISH
X-WR-CALNAME:Drac Nature
X-ORIGINAL-URL:https://dracnature.fr
X-WR-CALDESC:Évènements pour Drac Nature
REFRESH-INTERVAL;VALUE=DURATION:PT1H
X-Robots-Tag:noindex
X-PUBLISHED-TTL:PT1H
BEGIN:VTIMEZONE
TZID:Europe/Paris
BEGIN:DAYLIGHT
TZOFFSETFROM:+0100
TZOFFSETTO:+0200
TZNAME:CEST
DTSTART:20210328T010000
END:DAYLIGHT
BEGIN:STANDARD
TZOFFSETFROM:+0200
TZOFFSETTO:+0100
TZNAME:CET
DTSTART:20211031T010000
END:STANDARD
BEGIN:DAYLIGHT
TZOFFSETFROM:+0100
TZOFFSETTO:+0200
TZNAME:CEST
DTSTART:20220327T010000
END:DAYLIGHT
BEGIN:STANDARD
TZOFFSETFROM:+0200
TZOFFSETTO:+0100
TZNAME:CET
DTSTART:20221030T010000
END:STANDARD
BEGIN:DAYLIGHT
TZOFFSETFROM:+0100
TZOFFSETTO:+0200
TZNAME:CEST
DTSTART:20230326T010000
END:DAYLIGHT
BEGIN:STANDARD
TZOFFSETFROM:+0200
TZOFFSETTO:+0100
TZNAME:CET
DTSTART:20231029T010000
END:STANDARD
END:VTIMEZONE
BEGIN:VEVENT
DTSTART;TZID=Europe/Paris:20220604T100000
DTEND;TZID=Europe/Paris:20220604T120000
DTSTAMP:20260425T124906
CREATED:20220414T161228Z
LAST-MODIFIED:20220601T073325Z
UID:2231-1654336800-1654344000@dracnature.fr
SUMMARY:Participez à l'ABC des Côtes-de-Corps : les richesses du bocage
DESCRIPTION:En 2022\, Drac Nature accompagne la commune des Côtes-de-Corps dans la mise en œuvre de son Atlas de la Biodiversité Communale (ABC) aux côtés de Gentiana\, de la LPO et de Mélanie Cornet (assistante à maîtrise d’ouvrage). Un ABC est une démarche qui permet à une commune ou une intercommunalité de mieux connaître\, de préserver et de valoriser son patrimoine naturel. La démarche ABC invite les habitants et de les personnes volontaires qu’elles soient naturalistes ou non à participer à la collecte de données. Pour ce faire\, un module de 4 animations/formations est proposé entre avril et juillet pour acquérir les bases utiles à la détermination des espèces végétales et animales les plus communes ou avec une approche par type de milieux. \nAu programme : \nFaçonné au fil du temps par les hommes dans le respect de la nature\, le bocage est un paysage  »artificiel » qui regroupe différents milieux naturels au sein d’un maillage de haies. Nous découvrirons ensemble comment cette intervention humaine harmonieuse a conduit au développement de nombreuses espèces animales et végétales. Incontournables du bocage\, les arbres têtards ou trognes foisonnent de vie. Ils abritent de nombreuses espèces comme le muscardin\, petit rongeur discret dont nous apprendrons à détecter la présence par une « chasse aux noisettes ». Nous regarderons également de plus près les fleurs qui colorent les prairies et les cultures (messicoles) et leurs visiteurs indispensables que sont les insectes pollinisateurs. \nMatériel à prévoir :\nChaussures confortables pour marcher\, vêtements adaptés à la météo et si vous le souhaitez : jumelles\, carnet de croquis/note\, appareil photo… \nLieu et horaire de RDV :\nRDV à 9h45 pour un démarrage à 10h \nLieux de RDV : parking à l’entrée du hameau des Achards \n  \nModalités : \nCette animation est  gratuite et s’adresse aux habitants des Côtes-de-Corps\, des communes voisines ainsi qu’à tous les curieux (enfants accompagnés à partir de 8 ans) \n\n Inscription obligatoire (jusqu’au vendredi 3/06 – 12h) – merci d’indiquer un numéro de téléphone pour que nous puissions vous recontacter en cas de report.\n\ndracnature@dracnature.fr ou 07 66 35 69 16 \nL’inscription est nécessaire pour vous prévenir en cas de report pour mauvaise météo et pour la préparation du matériel\, des documents à imprimer\, pour gérer le nombre de participants…). \nEn savoir plus sur l’ABC des Côtes-de-Corps\n 
URL:https://dracnature.fr/event/participez-a-labc-des-cotes-de-corps-les-richesses-du-bocage/
END:VEVENT
BEGIN:VEVENT
DTSTART;TZID=Europe/Paris:20220626T090000
DTEND;TZID=Europe/Paris:20220626T120000
DTSTAMP:20260425T124906
CREATED:20220616T144500Z
LAST-MODIFIED:20220616T144500Z
UID:2286-1656234000-1656244800@dracnature.fr
SUMMARY:Chantier nature : arrachage du bunias d'Orient au sein de l'ENS ''Lacs et marais de Matheysine''
DESCRIPTION:
URL:https://dracnature.fr/event/chantier-nature-arrachage-du-bunias-dorient-au-sein-de-lens-lacs-et-marais-de-matheysine/
END:VEVENT
END:VCALENDAR