BEGIN:VCALENDAR
VERSION:2.0
PRODID:-//Drac Nature - ECPv6.15.20//NONSGML v1.0//EN
CALSCALE:GREGORIAN
METHOD:PUBLISH
X-ORIGINAL-URL:https://dracnature.fr
X-WR-CALDESC:Évènements pour Drac Nature
REFRESH-INTERVAL;VALUE=DURATION:PT1H
X-Robots-Tag:noindex
X-PUBLISHED-TTL:PT1H
BEGIN:VTIMEZONE
TZID:Europe/Paris
BEGIN:DAYLIGHT
TZOFFSETFROM:+0100
TZOFFSETTO:+0200
TZNAME:CEST
DTSTART:20210328T010000
END:DAYLIGHT
BEGIN:STANDARD
TZOFFSETFROM:+0200
TZOFFSETTO:+0100
TZNAME:CET
DTSTART:20211031T010000
END:STANDARD
BEGIN:DAYLIGHT
TZOFFSETFROM:+0100
TZOFFSETTO:+0200
TZNAME:CEST
DTSTART:20220327T010000
END:DAYLIGHT
BEGIN:STANDARD
TZOFFSETFROM:+0200
TZOFFSETTO:+0100
TZNAME:CET
DTSTART:20221030T010000
END:STANDARD
BEGIN:DAYLIGHT
TZOFFSETFROM:+0100
TZOFFSETTO:+0200
TZNAME:CEST
DTSTART:20230326T010000
END:DAYLIGHT
BEGIN:STANDARD
TZOFFSETFROM:+0200
TZOFFSETTO:+0100
TZNAME:CET
DTSTART:20231029T010000
END:STANDARD
END:VTIMEZONE
BEGIN:VEVENT
DTSTART;TZID=Europe/Paris:20220910T160000
DTEND;TZID=Europe/Paris:20220910T190000
DTSTAMP:20260425T173308
CREATED:20220807T161723Z
LAST-MODIFIED:20220807T161749Z
UID:2305-1662825600-1662836400@dracnature.fr
SUMMARY:Sortie découverte des vautours
DESCRIPTION:Lieu : Saint-Honoré \nHoraire : de 16h à 19h \nInscriptions et renseignements auprès de Katia Asensio au \n06-99-17-27-05
URL:https://dracnature.fr/event/sortie-decouverte-des-vautours/
END:VEVENT
BEGIN:VEVENT
DTSTART;TZID=Europe/Paris:20220917T093000
DTEND;TZID=Europe/Paris:20220917T113000
DTSTAMP:20260425T173308
CREATED:20220912T161950Z
LAST-MODIFIED:20220912T162612Z
UID:2317-1663407000-1663414200@dracnature.fr
SUMMARY:Grand nettoyage des lacs matheysins
DESCRIPTION:
URL:https://dracnature.fr/event/grand-nettoyage-des-lacs-matheysins/
END:VEVENT
END:VCALENDAR