BEGIN:VCALENDAR
VERSION:2.0
PRODID:-//Drac Nature - ECPv6.15.20//NONSGML v1.0//EN
CALSCALE:GREGORIAN
METHOD:PUBLISH
X-ORIGINAL-URL:https://dracnature.fr
X-WR-CALDESC:Évènements pour Drac Nature
REFRESH-INTERVAL;VALUE=DURATION:PT1H
X-Robots-Tag:noindex
X-PUBLISHED-TTL:PT1H
BEGIN:VTIMEZONE
TZID:Europe/Paris
BEGIN:DAYLIGHT
TZOFFSETFROM:+0100
TZOFFSETTO:+0200
TZNAME:CEST
DTSTART:20220327T010000
END:DAYLIGHT
BEGIN:STANDARD
TZOFFSETFROM:+0200
TZOFFSETTO:+0100
TZNAME:CET
DTSTART:20221030T010000
END:STANDARD
BEGIN:DAYLIGHT
TZOFFSETFROM:+0100
TZOFFSETTO:+0200
TZNAME:CEST
DTSTART:20230326T010000
END:DAYLIGHT
BEGIN:STANDARD
TZOFFSETFROM:+0200
TZOFFSETTO:+0100
TZNAME:CET
DTSTART:20231029T010000
END:STANDARD
BEGIN:DAYLIGHT
TZOFFSETFROM:+0100
TZOFFSETTO:+0200
TZNAME:CEST
DTSTART:20240331T010000
END:DAYLIGHT
BEGIN:STANDARD
TZOFFSETFROM:+0200
TZOFFSETTO:+0100
TZNAME:CET
DTSTART:20241027T010000
END:STANDARD
END:VTIMEZONE
BEGIN:VEVENT
DTSTART;VALUE=DATE:20230603
DTEND;VALUE=DATE:20230605
DTSTAMP:20260425T130959
CREATED:20230302T193458Z
LAST-MODIFIED:20230308T074255Z
UID:2428-1685750400-1685923199@dracnature.fr
SUMMARY:Escapade en Drôme provençale
DESCRIPTION:Balade de découverte dans de magnifiques paysages subalpins\, observation\nde la faune et de la flore.\n\n\nLieu :  Rémuzat\n\n\n\nRenseignement et inscription obligatoire avant le  7 avril auprès de Katia ASENSIO\n\nemploy38@alsatis.net
URL:https://dracnature.fr/event/escapade-en-drome-provencale/
END:VEVENT
BEGIN:VEVENT
DTSTART;TZID=Europe/Paris:20230616T210000
DTEND;TZID=Europe/Paris:20230616T233000
DTSTAMP:20260425T130959
CREATED:20230616T112657Z
LAST-MODIFIED:20230616T112818Z
UID:2495-1686949200-1686958200@dracnature.fr
SUMMARY:Soirée de découverte des papillons nocturnes
DESCRIPTION:Dans le cadre de  l’Atlas de la Biodiversité Communale (ABC)\, nous vous proposons de participer à une soirée de prospection des papillons nocturnes avec Yann Baillet\, spécialiste de l’association Flavia APE \n  \nvendredi 16 juin \n RDV devant la mairie des Côtes-de-Corps  à 21h   \n  \nL’occasion de découvrir un monde mystérieux\, voire inconnu\, ponctué de mille couleurs qui se révèlent à la lumière.\n \nLa prospection ne nécessite qu’un court déplacement à pieds pour se rendre sur le site qui sera choisi à proximité d’une voie d’accés. Un piège lumineux sera ensuite installé pour faire les observations. \nPensez à prendre une lampe et n’hésitez pas à prendre une petite chaise ou un tabouret pliant\, une couverture\, des boissons chaudes\, (…) pour vous installer confortablement. \n  \nLa soirée est gratuite et ouverte à tous ! \n  \nEn cas de mauvaise météo\, la soirée sera reportée. C’est pourquoi nous vous remercions par avance de vous inscrire à l’adresse suivante et de nous laisser un numéro de téléphone (portable si possible) afin que nous puissions vous prevenir. \ndracnature@dracnature.fr \n  \nSans nouvelle de notre part\, la soirée sera maintenue.
URL:https://dracnature.fr/event/soiree-de-decouverte-des-papillons-nocturnes/
END:VEVENT
BEGIN:VEVENT
DTSTART;TZID=Europe/Paris:20230625T090000
DTEND;TZID=Europe/Paris:20230625T170000
DTSTAMP:20260425T130959
CREATED:20230616T113109Z
LAST-MODIFIED:20230616T113109Z
UID:2499-1687683600-1687712400@dracnature.fr
SUMMARY:Balade photographique
DESCRIPTION:Initiation à la prise de photo en botanique avec Max BRUSSAT \nDate : 25 juin de 9 h à 17 h (600 m de dénivelé) \nLieu : Saint-Michel en Beaumont \n\nRenseignement et inscription\nKatia ASENSIO\nEmploy38@alsatis.net
URL:https://dracnature.fr/event/balade-photographique/
END:VEVENT
END:VCALENDAR