BEGIN:VCALENDAR
VERSION:2.0
PRODID:-//Drac Nature - ECPv6.15.20//NONSGML v1.0//EN
CALSCALE:GREGORIAN
METHOD:PUBLISH
X-WR-CALNAME:Drac Nature
X-ORIGINAL-URL:https://dracnature.fr
X-WR-CALDESC:Évènements pour Drac Nature
REFRESH-INTERVAL;VALUE=DURATION:PT1H
X-Robots-Tag:noindex
X-PUBLISHED-TTL:PT1H
BEGIN:VTIMEZONE
TZID:Europe/Paris
BEGIN:DAYLIGHT
TZOFFSETFROM:+0100
TZOFFSETTO:+0200
TZNAME:CEST
DTSTART:20220327T010000
END:DAYLIGHT
BEGIN:STANDARD
TZOFFSETFROM:+0200
TZOFFSETTO:+0100
TZNAME:CET
DTSTART:20221030T010000
END:STANDARD
BEGIN:DAYLIGHT
TZOFFSETFROM:+0100
TZOFFSETTO:+0200
TZNAME:CEST
DTSTART:20230326T010000
END:DAYLIGHT
BEGIN:STANDARD
TZOFFSETFROM:+0200
TZOFFSETTO:+0100
TZNAME:CET
DTSTART:20231029T010000
END:STANDARD
BEGIN:DAYLIGHT
TZOFFSETFROM:+0100
TZOFFSETTO:+0200
TZNAME:CEST
DTSTART:20240331T010000
END:DAYLIGHT
BEGIN:STANDARD
TZOFFSETFROM:+0200
TZOFFSETTO:+0100
TZNAME:CET
DTSTART:20241027T010000
END:STANDARD
END:VTIMEZONE
BEGIN:VEVENT
DTSTART;TZID=Europe/Paris:20230916T093000
DTEND;TZID=Europe/Paris:20230916T113000
DTSTAMP:20260423T053327
CREATED:20230712T150140Z
LAST-MODIFIED:20230904T151020Z
UID:2529-1694856600-1694863800@dracnature.fr
SUMMARY:Nettoyage des lacs matheysins
DESCRIPTION:
URL:https://dracnature.fr/event/nettoyage-des-lacs-de-laffrey/
LOCATION:Laffrey
END:VEVENT
BEGIN:VEVENT
DTSTART;TZID=Europe/Paris:20230930T100000
DTEND;TZID=Europe/Paris:20230930T180000
DTSTAMP:20260423T053327
CREATED:20230925T141329Z
LAST-MODIFIED:20230925T141400Z
UID:2568-1696068000-1696096800@dracnature.fr
SUMMARY:Retrouvez-nous au salon de l'agriculture et de l'alimentation de la Matheysine
DESCRIPTION:Drac Nature sera présente avec un stand mettant en avant ses travaux sur le bocage et les mares au salon de l’agriculture et de l’alimentation de la Matheysine. \nN’hésitez pas à venir nous saluer ! \nEn savoir plus sur le programme de la journée grand public \n 
URL:https://dracnature.fr/event/retrouvez-nous-au-salon-de-lagriculture-et-de-lalimentation-de-la-matheysine/
END:VEVENT
END:VCALENDAR