BEGIN:VCALENDAR
VERSION:2.0
PRODID:-//Drac Nature - ECPv6.15.20//NONSGML v1.0//EN
CALSCALE:GREGORIAN
METHOD:PUBLISH
X-WR-CALNAME:Drac Nature
X-ORIGINAL-URL:https://dracnature.fr
X-WR-CALDESC:Évènements pour Drac Nature
REFRESH-INTERVAL;VALUE=DURATION:PT1H
X-Robots-Tag:noindex
X-PUBLISHED-TTL:PT1H
BEGIN:VTIMEZONE
TZID:Europe/Paris
BEGIN:DAYLIGHT
TZOFFSETFROM:+0100
TZOFFSETTO:+0200
TZNAME:CEST
DTSTART:20220327T010000
END:DAYLIGHT
BEGIN:STANDARD
TZOFFSETFROM:+0200
TZOFFSETTO:+0100
TZNAME:CET
DTSTART:20221030T010000
END:STANDARD
BEGIN:DAYLIGHT
TZOFFSETFROM:+0100
TZOFFSETTO:+0200
TZNAME:CEST
DTSTART:20230326T010000
END:DAYLIGHT
BEGIN:STANDARD
TZOFFSETFROM:+0200
TZOFFSETTO:+0100
TZNAME:CET
DTSTART:20231029T010000
END:STANDARD
BEGIN:DAYLIGHT
TZOFFSETFROM:+0100
TZOFFSETTO:+0200
TZNAME:CEST
DTSTART:20240331T010000
END:DAYLIGHT
BEGIN:STANDARD
TZOFFSETFROM:+0200
TZOFFSETTO:+0100
TZNAME:CET
DTSTART:20241027T010000
END:STANDARD
END:VTIMEZONE
BEGIN:VEVENT
DTSTART;TZID=Europe/Paris:20231001T083000
DTEND;TZID=Europe/Paris:20231001T120000
DTSTAMP:20260423T002733
CREATED:20230201T154603Z
LAST-MODIFIED:20231004T135625Z
UID:2410-1696149000-1696161600@dracnature.fr
SUMMARY:Comptage d'oiseaux d'eau des lacs matheysins
DESCRIPTION:Chaque année\, de nombreux oiseaux quittent nos latitudes pour se rendre dans des contrées plus chaudes au nord de l’Afrique. Moins connue\, la migration d’oiseaux hivernants en provenance du nord de l’Europe n’en est pas moins importante. Les grands lacs de la Matheysine bordés de leurs roselières et prairies humides offrent refuge à quantité d’espèces d’oiseaux. \nSous l’impulsion de Gilbert BILLARD\, DRAC NATURE organise des comptages d’oiseaux d’eau depuis 1984 et recueille de nombreuses données. \nLes comptages ont lieu à proximité des 4 grands lacs matheysins. Ces sorties sont gratuites et ouvertes à tous. Elles permettent de s’initier à l’observation des oiseaux et de faire parfois des observations rares. Elles ont lieu généralement tous les premiers dimanches du mois\, d’octobre à avril. \nRenseignements et inscriptions auprès de Gilbert BILLARD : gilbert.billard@orange.fr \nRDV sur le parking d’Intersport à la Mure à 8h15 pour un démarrage à 8h30 \n  \nNotez d’ores et déjà les prochaines dates dans votre agenda : \n– dimanche 29 octobre \n– dimanche 5 novembre \n– dimanche 3 décembre \n 
URL:https://dracnature.fr/event/comptage-doiseaux-deau-des-lacs-matheysins-3/
END:VEVENT
BEGIN:VEVENT
DTSTART;VALUE=DATE:20231014
DTEND;VALUE=DATE:20231015
DTSTAMP:20260423T002733
CREATED:20230930T080117Z
LAST-MODIFIED:20231004T135659Z
UID:2575-1697241600-1697327999@dracnature.fr
SUMMARY:Nettoyage des abords de l'Espace Naturel Sensible de La Mure
DESCRIPTION:
URL:https://dracnature.fr/event/nettoyage-des-abords-de-lespace-naturel-sensible-de-la-mure/
END:VEVENT
BEGIN:VEVENT
DTSTART;VALUE=DATE:20231022
DTEND;VALUE=DATE:20231023
DTSTAMP:20260423T002733
CREATED:20230918T080216Z
LAST-MODIFIED:20230918T080216Z
UID:2554-1697932800-1698019199@dracnature.fr
SUMMARY:Balade automnale : les hameaux de montagne
DESCRIPTION:Promenade bucolique entre patrimoine et paysages du Valbonnais. \nPrévoir des chaussures de marche et des bâtons \n300 m de dénivelé cumulé \nInscription : Katia ASENSIO \nemploy38@alsatis.net \n 
URL:https://dracnature.fr/event/balade-automnale-les-hameaux-de-montagne/
LOCATION:Les Verneys
END:VEVENT
END:VCALENDAR