BEGIN:VCALENDAR
VERSION:2.0
PRODID:-//Drac Nature - ECPv6.15.20//NONSGML v1.0//EN
CALSCALE:GREGORIAN
METHOD:PUBLISH
X-WR-CALNAME:Drac Nature
X-ORIGINAL-URL:https://dracnature.fr
X-WR-CALDESC:Évènements pour Drac Nature
REFRESH-INTERVAL;VALUE=DURATION:PT1H
X-Robots-Tag:noindex
X-PUBLISHED-TTL:PT1H
BEGIN:VTIMEZONE
TZID:Europe/Paris
BEGIN:DAYLIGHT
TZOFFSETFROM:+0100
TZOFFSETTO:+0200
TZNAME:CEST
DTSTART:20230326T010000
END:DAYLIGHT
BEGIN:STANDARD
TZOFFSETFROM:+0200
TZOFFSETTO:+0100
TZNAME:CET
DTSTART:20231029T010000
END:STANDARD
BEGIN:DAYLIGHT
TZOFFSETFROM:+0100
TZOFFSETTO:+0200
TZNAME:CEST
DTSTART:20240331T010000
END:DAYLIGHT
BEGIN:STANDARD
TZOFFSETFROM:+0200
TZOFFSETTO:+0100
TZNAME:CET
DTSTART:20241027T010000
END:STANDARD
BEGIN:DAYLIGHT
TZOFFSETFROM:+0100
TZOFFSETTO:+0200
TZNAME:CEST
DTSTART:20250330T010000
END:DAYLIGHT
BEGIN:STANDARD
TZOFFSETFROM:+0200
TZOFFSETTO:+0100
TZNAME:CET
DTSTART:20251026T010000
END:STANDARD
END:VTIMEZONE
BEGIN:VEVENT
DTSTART;TZID=Europe/Paris:20240504T090000
DTEND;TZID=Europe/Paris:20240504T120000
DTSTAMP:20260422T142855
CREATED:20240424T142626Z
LAST-MODIFIED:20240501T170734Z
UID:2708-1714813200-1714824000@dracnature.fr
SUMMARY:Chantier participatif d'arrachage du bunias d'Orient dans le cadre de l'ABC des Côtes-de-Corps
DESCRIPTION:
URL:https://dracnature.fr/event/chantier-participatif-darrachage-du-bunias-dorient-dans-le-cadre-de-latlas-de-la-biodiversite-communale/
LOCATION:Mairie des Côtes-de-Corps
END:VEVENT
BEGIN:VEVENT
DTSTART;VALUE=DATE:20240525
DTEND;VALUE=DATE:20240526
DTSTAMP:20260422T142855
CREATED:20240218T144508Z
LAST-MODIFIED:20240501T182036Z
UID:2670-1716595200-1716681599@dracnature.fr
SUMMARY:Fête de la Nature : sortie ''Le sentier des Pères''
DESCRIPTION:Par un sentier pittoresque nous rejoindrons les alpages  où se côtoient  marmottes\, rapaces et papillons\, dans un cadre de couleurs offert par les fleurs sauvages du Beaumont. \nRenseignements et inscription : \nGypa.bikette@nordnet.fr \nou \n  \n  \nhttps://fetedelanature.com/edition-2024/le-sentier-des-peres
URL:https://dracnature.fr/event/sortie-fete-de-la-nature-2024/
END:VEVENT
END:VCALENDAR