BEGIN:VCALENDAR
VERSION:2.0
PRODID:-//Drac Nature - ECPv6.15.20//NONSGML v1.0//EN
CALSCALE:GREGORIAN
METHOD:PUBLISH
X-ORIGINAL-URL:https://dracnature.fr
X-WR-CALDESC:Évènements pour Drac Nature
REFRESH-INTERVAL;VALUE=DURATION:PT1H
X-Robots-Tag:noindex
X-PUBLISHED-TTL:PT1H
BEGIN:VTIMEZONE
TZID:Europe/Paris
BEGIN:DAYLIGHT
TZOFFSETFROM:+0100
TZOFFSETTO:+0200
TZNAME:CEST
DTSTART:20230326T010000
END:DAYLIGHT
BEGIN:STANDARD
TZOFFSETFROM:+0200
TZOFFSETTO:+0100
TZNAME:CET
DTSTART:20231029T010000
END:STANDARD
BEGIN:DAYLIGHT
TZOFFSETFROM:+0100
TZOFFSETTO:+0200
TZNAME:CEST
DTSTART:20240331T010000
END:DAYLIGHT
BEGIN:STANDARD
TZOFFSETFROM:+0200
TZOFFSETTO:+0100
TZNAME:CET
DTSTART:20241027T010000
END:STANDARD
BEGIN:DAYLIGHT
TZOFFSETFROM:+0100
TZOFFSETTO:+0200
TZNAME:CEST
DTSTART:20250330T010000
END:DAYLIGHT
BEGIN:STANDARD
TZOFFSETFROM:+0200
TZOFFSETTO:+0100
TZNAME:CET
DTSTART:20251026T010000
END:STANDARD
END:VTIMEZONE
BEGIN:VEVENT
DTSTART;TZID=Europe/Paris:20241006T080000
DTEND;TZID=Europe/Paris:20241006T120000
DTSTAMP:20260422T225856
CREATED:20240907T124053Z
LAST-MODIFIED:20240923T153545Z
UID:2811-1728201600-1728216000@dracnature.fr
SUMMARY:Sortie comptage des oiseaux d'eau
DESCRIPTION:Chaque année\, de nombreux oiseaux quittent nos latitudes pour se rendre dans des contrées plus chaudes au nord de l’Afrique. Moins connue\, la migration d’oiseaux hivernants en provenance du nord de l’Europe n’en est pas moins importante. Les grands lacs de la Matheysine bordés de leurs roselières et prairies humides offrent refuge à quantité d’espèces d’oiseaux. \nSous l’impulsion de Gilbert BILLARD\, DRAC NATURE organise des comptages d’oiseaux d’eau depuis 1984 et recueille de nombreuses données. \nLes comptages ont lieu à proximité des 4 grands lacs matheysins. Ces sorties sont gratuites et ouvertes à tous. Elles permettent de s’initier à l’observation des oiseaux et de faire parfois des observations rares. Elles ont lieu généralement tous les premiers dimanches du mois\, d’octobre à avril. \nRenseignements et inscriptions auprès de Gilbert BILLARD : gilbert.billard@orange.fr \nRDV sur le parking d’Intersport à la Mure à 8h15 pour un démarrage à 8h30 \n  \nLes prochains RDV auront lieu les dimanches : \n\n3 novembre 2024\n1 décembre 2024\n5 janvier 2025\n2 février 2025\n2 mars 2025\n6 avril 2025
URL:https://dracnature.fr/event/sortie-comptage-des-oiseaux-deau/
LOCATION:parking Z.I des marais\, La Mure\, 38350\, France
END:VEVENT
BEGIN:VEVENT
DTSTART;VALUE=DATE:20241012
DTEND;VALUE=DATE:20241013
DTSTAMP:20260422T225856
CREATED:20240919T144319Z
LAST-MODIFIED:20240923T155916Z
UID:2833-1728691200-1728777599@dracnature.fr
SUMMARY:Comptage des gypaètes barbus
DESCRIPTION:Drac Nature s’associe à la LPO pour un comptage des gypaètes barbus.  Grande opération internationale de recensement annuel sur tout l’Arc alpin. \nRenseignements : \nkatia ASENSIO \ngypa.bikette@nordnet.fr \n 
URL:https://dracnature.fr/event/comptage-des-gypaetes-barbu/
END:VEVENT
BEGIN:VEVENT
DTSTART;VALUE=DATE:20241019
DTEND;VALUE=DATE:20241020
DTSTAMP:20260422T225856
CREATED:20240919T144747Z
LAST-MODIFIED:20240923T155454Z
UID:2836-1729296000-1729382399@dracnature.fr
SUMMARY:Balade géologique dans le Dévoluy
DESCRIPTION:Nous partirons à  la recherche des traces des organismes marins d’antan. \nDénivelé + : environ 500 m \nRenseignements et inscription : \nKatia ASENSIO \ngypa.bikette@nordnet.fr
URL:https://dracnature.fr/event/balade-geologique-dans-le-devoluy/
END:VEVENT
END:VCALENDAR