BEGIN:VCALENDAR
VERSION:2.0
PRODID:-//Drac Nature - ECPv6.15.20//NONSGML v1.0//EN
CALSCALE:GREGORIAN
METHOD:PUBLISH
X-WR-CALNAME:Drac Nature
X-ORIGINAL-URL:https://dracnature.fr
X-WR-CALDESC:Évènements pour Drac Nature
REFRESH-INTERVAL;VALUE=DURATION:PT1H
X-Robots-Tag:noindex
X-PUBLISHED-TTL:PT1H
BEGIN:VTIMEZONE
TZID:Europe/Paris
BEGIN:DAYLIGHT
TZOFFSETFROM:+0100
TZOFFSETTO:+0200
TZNAME:CEST
DTSTART:20240331T010000
END:DAYLIGHT
BEGIN:STANDARD
TZOFFSETFROM:+0200
TZOFFSETTO:+0100
TZNAME:CET
DTSTART:20241027T010000
END:STANDARD
BEGIN:DAYLIGHT
TZOFFSETFROM:+0100
TZOFFSETTO:+0200
TZNAME:CEST
DTSTART:20250330T010000
END:DAYLIGHT
BEGIN:STANDARD
TZOFFSETFROM:+0200
TZOFFSETTO:+0100
TZNAME:CET
DTSTART:20251026T010000
END:STANDARD
BEGIN:DAYLIGHT
TZOFFSETFROM:+0100
TZOFFSETTO:+0200
TZNAME:CEST
DTSTART:20260329T010000
END:DAYLIGHT
BEGIN:STANDARD
TZOFFSETFROM:+0200
TZOFFSETTO:+0100
TZNAME:CET
DTSTART:20261025T010000
END:STANDARD
END:VTIMEZONE
BEGIN:VEVENT
DTSTART;TZID=Europe/Paris:20250302T080000
DTEND;TZID=Europe/Paris:20250302T120000
DTSTAMP:20260422T111936
CREATED:20240907T124424Z
LAST-MODIFIED:20240923T153932Z
UID:2822-1740902400-1740916800@dracnature.fr
SUMMARY:Sortie comptage des oiseaux d'eau
DESCRIPTION:Chaque année\, de nombreux oiseaux quittent nos latitudes pour se rendre dans des contrées plus chaudes au nord de l’Afrique. Moins connue\, la migration d’oiseaux hivernants en provenance du nord de l’Europe n’en est pas moins importante. Les grands lacs de la Matheysine bordés de leurs roselières et prairies humides offrent refuge à quantité d’espèces d’oiseaux. \nSous l’impulsion de Gilbert BILLARD\, DRAC NATURE organise des comptages d’oiseaux d’eau depuis 1984 et recueille de nombreuses données. \nLes comptages ont lieu à proximité des 4 grands lacs matheysins. Ces sorties sont gratuites et ouvertes à tous. Elles permettent de s’initier à l’observation des oiseaux et de faire parfois des observations rares. Elles ont lieu généralement tous les premiers dimanches du mois\, d’octobre à avril. \nRenseignements et inscriptions auprès de Gilbert BILLARD : gilbert.billard@orange.fr \nRDV sur le parking d’Intersport à la Mure à 8h15 pour un démarrage à 8h30 \n  \nLe prochain RDV aura lieu le dimanche : \n\n6 avril 2025
URL:https://dracnature.fr/event/sortie-comptage-des-oiseaux-deau-6/
LOCATION:parking Z.I des marais\, La Mure\, 38350\, France
END:VEVENT
BEGIN:VEVENT
DTSTART;TZID=Europe/Paris:20250315T090000
DTEND;TZID=Europe/Paris:20250315T120000
DTSTAMP:20260422T111936
CREATED:20250227T202911Z
LAST-MODIFIED:20250227T203201Z
UID:2967-1742029200-1742040000@dracnature.fr
SUMMARY:Nettoyage à Pierre Châtel
DESCRIPTION:
URL:https://dracnature.fr/event/nettoyage-a-pierre-chatel/
LOCATION:Pierre Châtel
END:VEVENT
BEGIN:VEVENT
DTSTART;TZID=Europe/Paris:20250322T083000
DTEND;TZID=Europe/Paris:20250322T113000
DTSTAMP:20260422T111936
CREATED:20250315T081900Z
LAST-MODIFIED:20250315T083145Z
UID:2984-1742632200-1742643000@dracnature.fr
SUMMARY:À la découverte des premiers chanteurs
DESCRIPTION:Déambulation à pas feutrés dans le bocage Matheysin en quête de nos premiers chanteurs. \nChaussures de marche et jumelles conseillées\nInscription obligatoire (à partir du 08/03 uniquement\, adhérent·es prioritaires)\, par mail avec nom/prénom/tél \nL’inscription se fait auprès de la LPO   isere@lpo.fr \nKatia ASENSIO Bénévole LPO   DRAC NATURE
URL:https://dracnature.fr/event/a-la-decouverte-des-premiers-chanteurs/
END:VEVENT
BEGIN:VEVENT
DTSTART;VALUE=DATE:20250323
DTEND;VALUE=DATE:20250324
DTSTAMP:20260422T111936
CREATED:20250307T101001Z
LAST-MODIFIED:20250307T101001Z
UID:2972-1742688000-1742774399@dracnature.fr
SUMMARY:Oiseaux des parcs et des jardins
DESCRIPTION:Déambulation  dans le parc de l’Ovalie  et selon après midi parc de Vizille pour l’écoute des 1er chanteurs. \nInscription et renseignements  ; \nASENSIO Katia \ngypa.bikette@nordnet.fr
URL:https://dracnature.fr/event/oiseaux-des-parcs-et-des-jardins/
END:VEVENT
END:VCALENDAR